BEGIN:VCALENDAR
VERSION:2.0
PRODID:-//First Assembly of God Wylie - ECPv5.14.1//NONSGML v1.0//EN
CALSCALE:GREGORIAN
METHOD:PUBLISH
X-WR-CALNAME:First Assembly of God Wylie
X-ORIGINAL-URL:https://firstagwylietx.com
X-WR-CALDESC:Events for First Assembly of God Wylie
REFRESH-INTERVAL;VALUE=DURATION:PT1H
X-Robots-Tag:noindex
X-PUBLISHED-TTL:PT1H
BEGIN:VTIMEZONE
TZID:America/Chicago
BEGIN:DAYLIGHT
TZOFFSETFROM:-0600
TZOFFSETTO:-0500
TZNAME:CDT
DTSTART:20270314T080000
END:DAYLIGHT
BEGIN:STANDARD
TZOFFSETFROM:-0500
TZOFFSETTO:-0600
TZNAME:CST
DTSTART:20271107T070000
END:STANDARD
END:VTIMEZONE
BEGIN:VEVENT
DTSTART;TZID=America/Chicago:20271201T190000
DTEND;TZID=America/Chicago:20271201T190000
DTSTAMP:20260423T065403
CREATED:20220330T183400Z
LAST-MODIFIED:20220330T183400Z
UID:5983-1827687600-1827687600@firstagwylietx.com
SUMMARY:Wednesday Evening Bible study
DESCRIPTION:
URL:https://firstagwylietx.com/event/wednesday-evening-bible-study/2027-12-01/
END:VEVENT
BEGIN:VEVENT
DTSTART;TZID=America/Chicago:20271205T104500
DTEND;TZID=America/Chicago:20271205T120000
DTSTAMP:20260423T065403
CREATED:20220323T155246Z
LAST-MODIFIED:20220323T155246Z
UID:5984-1828003500-1828008000@firstagwylietx.com
SUMMARY:Missions Sunday
DESCRIPTION:
URL:https://firstagwylietx.com/event/missions-sunday/2027-12-05/
END:VEVENT
BEGIN:VEVENT
DTSTART;TZID=America/Chicago:20271208T190000
DTEND;TZID=America/Chicago:20271208T190000
DTSTAMP:20260423T065403
CREATED:20220330T183400Z
LAST-MODIFIED:20220330T183400Z
UID:5985-1828292400-1828292400@firstagwylietx.com
SUMMARY:Wednesday Evening Bible study
DESCRIPTION:
URL:https://firstagwylietx.com/event/wednesday-evening-bible-study/2027-12-08/
END:VEVENT
BEGIN:VEVENT
DTSTART;TZID=America/Chicago:20271215T190000
DTEND;TZID=America/Chicago:20271215T190000
DTSTAMP:20260423T065403
CREATED:20220330T183400Z
LAST-MODIFIED:20220330T183400Z
UID:5986-1828897200-1828897200@firstagwylietx.com
SUMMARY:Wednesday Evening Bible study
DESCRIPTION:
URL:https://firstagwylietx.com/event/wednesday-evening-bible-study/2027-12-15/
END:VEVENT
BEGIN:VEVENT
DTSTART;TZID=America/Chicago:20271222T190000
DTEND;TZID=America/Chicago:20271222T190000
DTSTAMP:20260423T065403
CREATED:20220330T183400Z
LAST-MODIFIED:20220330T183400Z
UID:5997-1829502000-1829502000@firstagwylietx.com
SUMMARY:Wednesday Evening Bible study
DESCRIPTION:
URL:https://firstagwylietx.com/event/wednesday-evening-bible-study/2027-12-22/
END:VEVENT
BEGIN:VEVENT
DTSTART;TZID=America/Chicago:20271229T190000
DTEND;TZID=America/Chicago:20271229T190000
DTSTAMP:20260423T065403
CREATED:20220330T183400Z
LAST-MODIFIED:20220330T183400Z
UID:5998-1830106800-1830106800@firstagwylietx.com
SUMMARY:Wednesday Evening Bible study
DESCRIPTION:
URL:https://firstagwylietx.com/event/wednesday-evening-bible-study/2027-12-29/
END:VEVENT
END:VCALENDAR