BEGIN:VCALENDAR
VERSION:2.0
PRODID:-//First Assembly of God Wylie - ECPv5.14.1//NONSGML v1.0//EN
CALSCALE:GREGORIAN
METHOD:PUBLISH
X-WR-CALNAME:First Assembly of God Wylie
X-ORIGINAL-URL:https://firstagwylietx.com
X-WR-CALDESC:Events for First Assembly of God Wylie
REFRESH-INTERVAL;VALUE=DURATION:PT1H
X-Robots-Tag:noindex
X-PUBLISHED-TTL:PT1H
BEGIN:VTIMEZONE
TZID:America/Chicago
BEGIN:DAYLIGHT
TZOFFSETFROM:-0600
TZOFFSETTO:-0500
TZNAME:CDT
DTSTART:20270314T080000
END:DAYLIGHT
BEGIN:STANDARD
TZOFFSETFROM:-0500
TZOFFSETTO:-0600
TZNAME:CST
DTSTART:20271107T070000
END:STANDARD
END:VTIMEZONE
BEGIN:VEVENT
DTSTART;TZID=America/Chicago:20270801T104500
DTEND;TZID=America/Chicago:20270801T120000
DTSTAMP:20260423T065740
CREATED:20220323T155246Z
LAST-MODIFIED:20220323T155246Z
UID:5950-1817117100-1817121600@firstagwylietx.com
SUMMARY:Missions Sunday
DESCRIPTION:
URL:https://firstagwylietx.com/event/missions-sunday/2027-08-01/
END:VEVENT
BEGIN:VEVENT
DTSTART;TZID=America/Chicago:20270804T190000
DTEND;TZID=America/Chicago:20270804T190000
DTSTAMP:20260423T065740
CREATED:20220330T183400Z
LAST-MODIFIED:20220330T183400Z
UID:5951-1817406000-1817406000@firstagwylietx.com
SUMMARY:Wednesday Evening Bible study
DESCRIPTION:
URL:https://firstagwylietx.com/event/wednesday-evening-bible-study/2027-08-04/
END:VEVENT
BEGIN:VEVENT
DTSTART;TZID=America/Chicago:20270811T190000
DTEND;TZID=America/Chicago:20270811T190000
DTSTAMP:20260423T065740
CREATED:20220330T183400Z
LAST-MODIFIED:20220330T183400Z
UID:5952-1818010800-1818010800@firstagwylietx.com
SUMMARY:Wednesday Evening Bible study
DESCRIPTION:
URL:https://firstagwylietx.com/event/wednesday-evening-bible-study/2027-08-11/
END:VEVENT
BEGIN:VEVENT
DTSTART;TZID=America/Chicago:20270818T190000
DTEND;TZID=America/Chicago:20270818T190000
DTSTAMP:20260423T065740
CREATED:20220330T183400Z
LAST-MODIFIED:20220330T183400Z
UID:5954-1818615600-1818615600@firstagwylietx.com
SUMMARY:Wednesday Evening Bible study
DESCRIPTION:
URL:https://firstagwylietx.com/event/wednesday-evening-bible-study/2027-08-18/
END:VEVENT
BEGIN:VEVENT
DTSTART;TZID=America/Chicago:20270825T190000
DTEND;TZID=America/Chicago:20270825T190000
DTSTAMP:20260423T065740
CREATED:20220330T183400Z
LAST-MODIFIED:20220330T183400Z
UID:5958-1819220400-1819220400@firstagwylietx.com
SUMMARY:Wednesday Evening Bible study
DESCRIPTION:
URL:https://firstagwylietx.com/event/wednesday-evening-bible-study/2027-08-25/
END:VEVENT
END:VCALENDAR