BEGIN:VCALENDAR
VERSION:2.0
PRODID:-//First Assembly of God Wylie - ECPv5.14.1//NONSGML v1.0//EN
CALSCALE:GREGORIAN
METHOD:PUBLISH
X-WR-CALNAME:First Assembly of God Wylie
X-ORIGINAL-URL:https://firstagwylietx.com
X-WR-CALDESC:Events for First Assembly of God Wylie
REFRESH-INTERVAL;VALUE=DURATION:PT1H
X-Robots-Tag:noindex
X-PUBLISHED-TTL:PT1H
BEGIN:VTIMEZONE
TZID:America/Chicago
BEGIN:DAYLIGHT
TZOFFSETFROM:-0600
TZOFFSETTO:-0500
TZNAME:CDT
DTSTART:20270314T080000
END:DAYLIGHT
BEGIN:STANDARD
TZOFFSETFROM:-0500
TZOFFSETTO:-0600
TZNAME:CST
DTSTART:20271107T070000
END:STANDARD
END:VTIMEZONE
BEGIN:VEVENT
DTSTART;TZID=America/Chicago:20270602T190000
DTEND;TZID=America/Chicago:20270602T190000
DTSTAMP:20260423T041323
CREATED:20220330T183400Z
LAST-MODIFIED:20220330T183400Z
UID:5933-1811962800-1811962800@firstagwylietx.com
SUMMARY:Wednesday Evening Bible study
DESCRIPTION:
URL:https://firstagwylietx.com/event/wednesday-evening-bible-study/2027-06-02/
END:VEVENT
BEGIN:VEVENT
DTSTART;TZID=America/Chicago:20270606T104500
DTEND;TZID=America/Chicago:20270606T120000
DTSTAMP:20260423T041323
CREATED:20220323T155246Z
LAST-MODIFIED:20220323T155246Z
UID:5934-1812278700-1812283200@firstagwylietx.com
SUMMARY:Missions Sunday
DESCRIPTION:
URL:https://firstagwylietx.com/event/missions-sunday/2027-06-06/
END:VEVENT
BEGIN:VEVENT
DTSTART;TZID=America/Chicago:20270609T190000
DTEND;TZID=America/Chicago:20270609T190000
DTSTAMP:20260423T041323
CREATED:20220330T183400Z
LAST-MODIFIED:20220330T183400Z
UID:5935-1812567600-1812567600@firstagwylietx.com
SUMMARY:Wednesday Evening Bible study
DESCRIPTION:
URL:https://firstagwylietx.com/event/wednesday-evening-bible-study/2027-06-09/
END:VEVENT
BEGIN:VEVENT
DTSTART;TZID=America/Chicago:20270616T190000
DTEND;TZID=America/Chicago:20270616T190000
DTSTAMP:20260423T041323
CREATED:20220330T183400Z
LAST-MODIFIED:20220330T183400Z
UID:5937-1813172400-1813172400@firstagwylietx.com
SUMMARY:Wednesday Evening Bible study
DESCRIPTION:
URL:https://firstagwylietx.com/event/wednesday-evening-bible-study/2027-06-16/
END:VEVENT
BEGIN:VEVENT
DTSTART;TZID=America/Chicago:20270623T190000
DTEND;TZID=America/Chicago:20270623T190000
DTSTAMP:20260423T041323
CREATED:20220330T183400Z
LAST-MODIFIED:20220330T183400Z
UID:5938-1813777200-1813777200@firstagwylietx.com
SUMMARY:Wednesday Evening Bible study
DESCRIPTION:
URL:https://firstagwylietx.com/event/wednesday-evening-bible-study/2027-06-23/
END:VEVENT
BEGIN:VEVENT
DTSTART;TZID=America/Chicago:20270630T190000
DTEND;TZID=America/Chicago:20270630T190000
DTSTAMP:20260423T041323
CREATED:20220330T183400Z
LAST-MODIFIED:20220330T183400Z
UID:5939-1814382000-1814382000@firstagwylietx.com
SUMMARY:Wednesday Evening Bible study
DESCRIPTION:
URL:https://firstagwylietx.com/event/wednesday-evening-bible-study/2027-06-30/
END:VEVENT
END:VCALENDAR