BEGIN:VCALENDAR
VERSION:2.0
PRODID:-//First Assembly of God Wylie - ECPv5.14.1//NONSGML v1.0//EN
CALSCALE:GREGORIAN
METHOD:PUBLISH
X-WR-CALNAME:First Assembly of God Wylie
X-ORIGINAL-URL:https://firstagwylietx.com
X-WR-CALDESC:Events for First Assembly of God Wylie
REFRESH-INTERVAL;VALUE=DURATION:PT1H
X-Robots-Tag:noindex
X-PUBLISHED-TTL:PT1H
BEGIN:VTIMEZONE
TZID:America/Chicago
BEGIN:DAYLIGHT
TZOFFSETFROM:-0600
TZOFFSETTO:-0500
TZNAME:CDT
DTSTART:20270314T080000
END:DAYLIGHT
BEGIN:STANDARD
TZOFFSETFROM:-0500
TZOFFSETTO:-0600
TZNAME:CST
DTSTART:20271107T070000
END:STANDARD
END:VTIMEZONE
BEGIN:VEVENT
DTSTART;TZID=America/Chicago:20270303T190000
DTEND;TZID=America/Chicago:20270303T190000
DTSTAMP:20260422T144456
CREATED:20220330T183400Z
LAST-MODIFIED:20220330T183400Z
UID:5906-1804100400-1804100400@firstagwylietx.com
SUMMARY:Wednesday Evening Bible study
DESCRIPTION:
URL:https://firstagwylietx.com/event/wednesday-evening-bible-study/2027-03-03/
END:VEVENT
BEGIN:VEVENT
DTSTART;TZID=America/Chicago:20270307T104500
DTEND;TZID=America/Chicago:20270307T120000
DTSTAMP:20260422T144456
CREATED:20220323T155246Z
LAST-MODIFIED:20220323T155246Z
UID:5907-1804416300-1804420800@firstagwylietx.com
SUMMARY:Missions Sunday
DESCRIPTION:
URL:https://firstagwylietx.com/event/missions-sunday/2027-03-07/
END:VEVENT
BEGIN:VEVENT
DTSTART;TZID=America/Chicago:20270310T190000
DTEND;TZID=America/Chicago:20270310T190000
DTSTAMP:20260422T144456
CREATED:20220330T183400Z
LAST-MODIFIED:20220330T183400Z
UID:5908-1804705200-1804705200@firstagwylietx.com
SUMMARY:Wednesday Evening Bible study
DESCRIPTION:
URL:https://firstagwylietx.com/event/wednesday-evening-bible-study/2027-03-10/
END:VEVENT
BEGIN:VEVENT
DTSTART;TZID=America/Chicago:20270317T190000
DTEND;TZID=America/Chicago:20270317T190000
DTSTAMP:20260422T144456
CREATED:20220330T183400Z
LAST-MODIFIED:20220330T183400Z
UID:5910-1805310000-1805310000@firstagwylietx.com
SUMMARY:Wednesday Evening Bible study
DESCRIPTION:
URL:https://firstagwylietx.com/event/wednesday-evening-bible-study/2027-03-17/
END:VEVENT
BEGIN:VEVENT
DTSTART;TZID=America/Chicago:20270324T190000
DTEND;TZID=America/Chicago:20270324T190000
DTSTAMP:20260422T144456
CREATED:20220330T183400Z
LAST-MODIFIED:20220330T183400Z
UID:5913-1805914800-1805914800@firstagwylietx.com
SUMMARY:Wednesday Evening Bible study
DESCRIPTION:
URL:https://firstagwylietx.com/event/wednesday-evening-bible-study/2027-03-24/
END:VEVENT
BEGIN:VEVENT
DTSTART;TZID=America/Chicago:20270331T190000
DTEND;TZID=America/Chicago:20270331T190000
DTSTAMP:20260422T144456
CREATED:20220330T183400Z
LAST-MODIFIED:20220330T183400Z
UID:5917-1806519600-1806519600@firstagwylietx.com
SUMMARY:Wednesday Evening Bible study
DESCRIPTION:
URL:https://firstagwylietx.com/event/wednesday-evening-bible-study/2027-03-31/
END:VEVENT
END:VCALENDAR