BEGIN:VCALENDAR
VERSION:2.0
PRODID:-//First Assembly of God Wylie - ECPv5.14.1//NONSGML v1.0//EN
CALSCALE:GREGORIAN
METHOD:PUBLISH
X-WR-CALNAME:First Assembly of God Wylie
X-ORIGINAL-URL:https://firstagwylietx.com
X-WR-CALDESC:Events for First Assembly of God Wylie
REFRESH-INTERVAL;VALUE=DURATION:PT1H
X-Robots-Tag:noindex
X-PUBLISHED-TTL:PT1H
BEGIN:VTIMEZONE
TZID:America/Chicago
BEGIN:DAYLIGHT
TZOFFSETFROM:-0600
TZOFFSETTO:-0500
TZNAME:CDT
DTSTART:20250309T080000
END:DAYLIGHT
BEGIN:STANDARD
TZOFFSETFROM:-0500
TZOFFSETTO:-0600
TZNAME:CST
DTSTART:20251102T070000
END:STANDARD
END:VTIMEZONE
BEGIN:VEVENT
DTSTART;TZID=America/Chicago:20250402T190000
DTEND;TZID=America/Chicago:20250402T190000
DTSTAMP:20260423T065602
CREATED:20220330T183400Z
LAST-MODIFIED:20220330T183400Z
UID:4826-1743620400-1743620400@firstagwylietx.com
SUMMARY:Wednesday Evening Bible study
DESCRIPTION:
URL:https://firstagwylietx.com/event/wednesday-evening-bible-study/2025-04-02/
END:VEVENT
BEGIN:VEVENT
DTSTART;TZID=America/Chicago:20250406T104500
DTEND;TZID=America/Chicago:20250406T120000
DTSTAMP:20260423T065602
CREATED:20220323T155246Z
LAST-MODIFIED:20220323T155246Z
UID:4828-1743936300-1743940800@firstagwylietx.com
SUMMARY:Missions Sunday
DESCRIPTION:
URL:https://firstagwylietx.com/event/missions-sunday/2025-04-06/
END:VEVENT
BEGIN:VEVENT
DTSTART;TZID=America/Chicago:20250409T190000
DTEND;TZID=America/Chicago:20250409T190000
DTSTAMP:20260423T065602
CREATED:20220330T183400Z
LAST-MODIFIED:20220330T183400Z
UID:4845-1744225200-1744225200@firstagwylietx.com
SUMMARY:Wednesday Evening Bible study
DESCRIPTION:
URL:https://firstagwylietx.com/event/wednesday-evening-bible-study/2025-04-09/
END:VEVENT
BEGIN:VEVENT
DTSTART;TZID=America/Chicago:20250416T190000
DTEND;TZID=America/Chicago:20250416T190000
DTSTAMP:20260423T065602
CREATED:20220330T183400Z
LAST-MODIFIED:20220330T183400Z
UID:4853-1744830000-1744830000@firstagwylietx.com
SUMMARY:Wednesday Evening Bible study
DESCRIPTION:
URL:https://firstagwylietx.com/event/wednesday-evening-bible-study/2025-04-16/
END:VEVENT
BEGIN:VEVENT
DTSTART;TZID=America/Chicago:20250423T190000
DTEND;TZID=America/Chicago:20250423T190000
DTSTAMP:20260423T065602
CREATED:20220330T183400Z
LAST-MODIFIED:20220330T183400Z
UID:4861-1745434800-1745434800@firstagwylietx.com
SUMMARY:Wednesday Evening Bible study
DESCRIPTION:
URL:https://firstagwylietx.com/event/wednesday-evening-bible-study/2025-04-23/
END:VEVENT
BEGIN:VEVENT
DTSTART;TZID=America/Chicago:20250430T190000
DTEND;TZID=America/Chicago:20250430T190000
DTSTAMP:20260423T065602
CREATED:20220330T183400Z
LAST-MODIFIED:20220330T183400Z
UID:4870-1746039600-1746039600@firstagwylietx.com
SUMMARY:Wednesday Evening Bible study
DESCRIPTION:
URL:https://firstagwylietx.com/event/wednesday-evening-bible-study/2025-04-30/
END:VEVENT
END:VCALENDAR